BEGIN:VCALENDAR
VERSION:2.0
PRODID:-//皿倉山ビジターセンター - ECPv6.15.18//NONSGML v1.0//EN
CALSCALE:GREGORIAN
METHOD:PUBLISH
X-WR-CALNAME:皿倉山ビジターセンター
X-ORIGINAL-URL:https://www.hobashira-aigo.jp
X-WR-CALDESC:皿倉山ビジターセンター のイベント
REFRESH-INTERVAL;VALUE=DURATION:PT1H
X-Robots-Tag:noindex
X-PUBLISHED-TTL:PT1H
BEGIN:VTIMEZONE
TZID:Asia/Tokyo
BEGIN:STANDARD
TZOFFSETFROM:+0900
TZOFFSETTO:+0900
TZNAME:JST
DTSTART:20250101T000000
END:STANDARD
END:VTIMEZONE
BEGIN:VEVENT
DTSTART;TZID=Asia/Tokyo:20260308T103000
DTEND;TZID=Asia/Tokyo:20260308T150000
DTSTAMP:20260422T062428
CREATED:20250315T043021Z
LAST-MODIFIED:20260112T113331Z
UID:5960-1772965800-1772982000@www.hobashira-aigo.jp
SUMMARY:第１０回　森のカルチャー教室
DESCRIPTION:カズラのかご作り \n\n\n\n\n\n\n\n集　　合\n１０：３０「皿倉山ビジターセンター」\n\n\n解　　散\n１５：３０（予定）「皿倉山ビジターセンター」\n\n\n対象・定員\nどなたでも参加可能　１５名\n\n\n天候情報\n小雨決行、荒天中止\n\n\n服装・持参品\n汚れてもよい服装・弁当・水筒・筆記用具・雨具など\n\n\n参加費\n１０００〜１５００円(材料費、保険料含む)\n\n\nお申込み\n開催３日前までにお電話・FAX・メール・ハガキにて、参加者の氏名・年齢・住所・電話番号をお知らせ下さい。\n\n\n\n\n 
URL:https://www.hobashira-aigo.jp/event/%e7%ac%ac%ef%bc%91%ef%bc%90%e5%9b%9e%e3%80%80%e6%a3%ae%e3%81%ae%e3%82%ab%e3%83%ab%e3%83%81%e3%83%a3%e3%83%bc%e6%95%99%e5%ae%a4/
LOCATION:皿倉山ビジターセンター\, 福岡県北九州市八幡東区大字大蔵2664-1\, 805-0048\, 日本
CATEGORIES:森のカルチャー教室
ATTACH;FMTTYPE=image/jpeg:https://www.hobashira-aigo.jp/wp-content/uploads/2024/02/image-9.jpeg
ORGANIZER;CN="%EF%BC%AE%EF%BC%B0%EF%BC%AF%E6%B3%95%E4%BA%BA %E5%B8%86%E6%9F%B1%E8%87%AA%E7%84%B6%E5%85%AC%E5%9C%92%E6%84%9B%E8%AD%B7%E4%BC%9A":MAILTO:sarakura_vc@hobashira-aigo.jp
END:VEVENT
BEGIN:VEVENT
DTSTART;TZID=Asia/Tokyo:20260208T103000
DTEND;TZID=Asia/Tokyo:20260208T153000
DTSTAMP:20260422T062428
CREATED:20221126T231303Z
LAST-MODIFIED:20250315T042136Z
UID:893-1770546600-1770564600@www.hobashira-aigo.jp
SUMMARY:第９回　森のカルチャー教室
DESCRIPTION:山の材料でジオラマを作ろう\n\n\n\n\n\n\n\n\n\n\n\n集　　合\n１０：３０「皿倉山ビジターセンター」\n\n\n解　　散\n１５：３０（予定）「皿倉山ビジターセンター」\n\n\n対象・定員\nどなたでも参加可能　１５名\n\n\n天候情報\n小雨決行、荒天中止\n\n\n服装・持参品\n汚れてもよい服装・弁当・水筒・筆記用具・雨具など\n\n\n参加費\n１０００〜１５００円(材料費、保険料含む)\n\n\nお申込み\n開催３日前までにお電話・FAX・メール・ハガキにて、参加者の氏名・年齢・住所・電話番号をお知らせ下さい。\n\n\n\n\n 
URL:https://www.hobashira-aigo.jp/event/%e6%a3%ae%e3%81%ae%e3%82%ab%e3%83%ab%e3%83%81%e3%83%a3%e3%83%bc%e6%95%99%e5%ae%a4-9/
LOCATION:皿倉山ビジターセンター\, 福岡県北九州市八幡東区大字大蔵2664-1\, 805-0048\, 日本
CATEGORIES:森のカルチャー教室
ATTACH;FMTTYPE=image/png:https://www.hobashira-aigo.jp/wp-content/uploads/2022/11/スクリーンショット-2023-03-12-23.05.59.png
ORGANIZER;CN="%EF%BC%AE%EF%BC%B0%EF%BC%AF%E6%B3%95%E4%BA%BA %E5%B8%86%E6%9F%B1%E8%87%AA%E7%84%B6%E5%85%AC%E5%9C%92%E6%84%9B%E8%AD%B7%E4%BC%9A":MAILTO:sarakura_vc@hobashira-aigo.jp
END:VEVENT
END:VCALENDAR