BEGIN:VCALENDAR
VERSION:2.0
PRODID:-//皿倉山ビジターセンター - ECPv6.15.18//NONSGML v1.0//EN
CALSCALE:GREGORIAN
METHOD:PUBLISH
X-WR-CALNAME:皿倉山ビジターセンター
X-ORIGINAL-URL:https://www.hobashira-aigo.jp
X-WR-CALDESC:皿倉山ビジターセンター のイベント
REFRESH-INTERVAL;VALUE=DURATION:PT1H
X-Robots-Tag:noindex
X-PUBLISHED-TTL:PT1H
BEGIN:VTIMEZONE
TZID:Asia/Tokyo
BEGIN:STANDARD
TZOFFSETFROM:+0900
TZOFFSETTO:+0900
TZNAME:JST
DTSTART:20250101T000000
END:STANDARD
END:VTIMEZONE
BEGIN:VEVENT
DTSTART;TZID=Asia/Tokyo:20260614T102000
DTEND;TZID=Asia/Tokyo:20260614T153000
DTSTAMP:20260421T211451
CREATED:20221126T233922Z
LAST-MODIFIED:20260112T112216Z
UID:900-1781432400-1781451000@www.hobashira-aigo.jp
SUMMARY:第２回　森のカルチャー教室
DESCRIPTION:皿倉山から登山デビュー教室\n\n\n\n\n\n\n\n集　　合\n１０：２０「皿倉山ビジターセンター」\n\n\n解　　散\n１５：３０（予定）「皿倉山ビジターセンター」\n\n\n対象・定員\nどなたでも参加可能　３０名\n\n\n天候情報\n小雨決行、荒天中止\n\n\n服装・持参品\n登山に適した服装、靴・筆記用具など、薬草茶を出します。\n\n\n参加費\n５００円(材料費、保険料含む)\n\n\nお申込み\n開催３日前までにお電話・FAX・メールにて、参加者の氏名・年齢・住所・電話番号をお知らせ下さい。\n\n\n\n\n 
URL:https://www.hobashira-aigo.jp/event/%e6%a3%ae%e3%81%ae%e3%82%ab%e3%83%ab%e3%83%81%e3%83%a3%e3%83%bc%e6%95%99%e5%ae%a4-2/
LOCATION:皿倉山ビジターセンター\, 福岡県北九州市八幡東区大字大蔵2664-1\, 805-0048\, 日本
CATEGORIES:森のカルチャー教室
ATTACH;FMTTYPE=image/jpeg:https://www.hobashira-aigo.jp/wp-content/uploads/2025/12/B43A884E-33AC-46F8-8E99-FD6B9662F075.jpeg
ORGANIZER;CN="%EF%BC%AE%EF%BC%B0%EF%BC%AF%E6%B3%95%E4%BA%BA %E5%B8%86%E6%9F%B1%E8%87%AA%E7%84%B6%E5%85%AC%E5%9C%92%E6%84%9B%E8%AD%B7%E4%BC%9A":MAILTO:sarakura_vc@hobashira-aigo.jp
END:VEVENT
END:VCALENDAR