BEGIN:VCALENDAR
VERSION:2.0
PRODID:-//皿倉山ビジターセンター - ECPv6.15.18//NONSGML v1.0//EN
CALSCALE:GREGORIAN
METHOD:PUBLISH
X-WR-CALNAME:皿倉山ビジターセンター
X-ORIGINAL-URL:https://www.hobashira-aigo.jp
X-WR-CALDESC:皿倉山ビジターセンター のイベント
REFRESH-INTERVAL;VALUE=DURATION:PT1H
X-Robots-Tag:noindex
X-PUBLISHED-TTL:PT1H
BEGIN:VTIMEZONE
TZID:Asia/Tokyo
BEGIN:STANDARD
TZOFFSETFROM:+0900
TZOFFSETTO:+0900
TZNAME:JST
DTSTART:20250101T000000
END:STANDARD
END:VTIMEZONE
BEGIN:VEVENT
DTSTART;TZID=Asia/Tokyo:20260510T093000
DTEND;TZID=Asia/Tokyo:20260510T163000
DTSTAMP:20260422T100544
CREATED:20221113T094528Z
LAST-MODIFIED:20260112T082854Z
UID:434-1778405400-1778430600@www.hobashira-aigo.jp
SUMMARY:第２回　ほばしら探検隊
DESCRIPTION:テーマ：立夏皿倉山では何が見つかる?\n\n\n\n集　　合\n９：３０　「皿倉山ケーブル山麓駅」\n\n\n解　　散\n16:10(予定) 「皿倉山ケーブル山麓駅」\n\n\n活動場所\n皿倉山ビジターセンター・帆柱自然公園一帯　(皿倉山・権現山・帆柱山・花尾山)\n\n\n対象・定員\n小学3年~6年生 20名程度(先着順)\n\n\nコロナ対策\n活動当日は検温(37.5°C未満)。\n\n\n服装・持参品\n長袖シャツ・長ズボン・帽子・手袋・履き慣れた靴・リュックサック お弁当・水筒・雨具・筆記用具など　(カメラ・携帯電話・お菓子類の持参は禁止)\n\n\n参加費\n全１０回分　10\,000円　※保険料、通信費、資料教材、ケーブルカー運賃等含む (但し、8月キャンプの食材費は別途経費が必要)\n\n\n\n\n\n\n\n\n※小雨決行・荒天中止 \n\n\n※集合・解散の場所と時間は、変更になる場合があります。\n\n\n\n 
URL:https://www.hobashira-aigo.jp/event/%e3%81%bb%e3%81%b0%e3%81%97%e3%82%89%e6%8e%a2%e6%a4%9c%e9%9a%8a-2/
LOCATION:皿倉山ケーブル山麓駅（集合）\, 福岡県北九州市八幡東区尾倉１４８１−１ 皿倉山ケーブルカー 山麓駅\, 〒805-0057\, 日本
CATEGORIES:帆柱探検隊
ATTACH;FMTTYPE=image/png:https://www.hobashira-aigo.jp/wp-content/uploads/2022/11/スクリーンショット-2023-03-12-22.00.23-e1678626084698.png
ORGANIZER;CN="%EF%BC%AE%EF%BC%B0%EF%BC%AF%E6%B3%95%E4%BA%BA %E5%B8%86%E6%9F%B1%E8%87%AA%E7%84%B6%E5%85%AC%E5%9C%92%E6%84%9B%E8%AD%B7%E4%BC%9A":MAILTO:sarakura_vc@hobashira-aigo.jp
END:VEVENT
BEGIN:VEVENT
DTSTART;TZID=Asia/Tokyo:20260419T093000
DTEND;TZID=Asia/Tokyo:20260419T160000
DTSTAMP:20260422T100544
CREATED:20221113T093856Z
LAST-MODIFIED:20260112T083211Z
UID:429-1776591000-1776614400@www.hobashira-aigo.jp
SUMMARY:第１回　ほばしら探検隊
DESCRIPTION:テーマ：皿倉山頂へ行こう\n\n\n\n集　　合\n９：３０　「皿倉山ケーブル山麓駅」\n\n\n解　　散\n１６：００(予定) 「皿倉山ケーブル山麓駅」\n\n\n活動場所\n皿倉山ビジターセンター・帆柱自然公園一帯　(皿倉山・権現山・帆柱山・花尾山)\n\n\n対象・定員\n小学3年~6年生 20名程度(先着順)\n\n\nコロナ対策\n活動当日は検温(37.5°C未満)のうえ、マスクの着用を徹底願います。\n\n\n服装・持参品\n長袖シャツ・長ズボン・帽子・手袋・履き慣れた靴・リュックサック お弁当・水筒・雨具・筆記用具など　(カメラ・携帯電話・お菓子類の持参は禁止)\n\n\n参加費\n全１０回分　10\,000円　※保険料、通信費、資料教材、ケーブルカー運賃等含む (4月開校式で納金)\n\n\nお申込み\n2026年度の申し込みは3月27日（土）で締め切らせて頂きます。次年度は、2027年3月1日号の「北九州 市政だより」で募集。\n\n\n\n\n※小雨決行・荒天中止 \n\n\n※集合・解散の場所と時間は、変更になる場合があります。\n\n\n\n 
URL:https://www.hobashira-aigo.jp/event/%e3%81%bb%e3%81%b0%e3%81%97%e3%82%89%e6%8e%a2%e6%a4%9c%e9%9a%8a-1/
LOCATION:皿倉山ビジターセンター\, 福岡県北九州市八幡東区大字大蔵2664-1\, 805-0048\, 日本
CATEGORIES:帆柱探検隊
ATTACH;FMTTYPE=image/png:https://www.hobashira-aigo.jp/wp-content/uploads/2022/11/スクリーンショット-2023-03-12-21.57.11-e1678625887141.png
ORGANIZER;CN="%EF%BC%AE%EF%BC%B0%EF%BC%AF%E6%B3%95%E4%BA%BA %E5%B8%86%E6%9F%B1%E8%87%AA%E7%84%B6%E5%85%AC%E5%9C%92%E6%84%9B%E8%AD%B7%E4%BC%9A":MAILTO:sarakura_vc@hobashira-aigo.jp
END:VEVENT
BEGIN:VEVENT
DTSTART;TZID=Asia/Tokyo:20260315T080000
DTEND;TZID=Asia/Tokyo:20260315T161000
DTSTAMP:20260422T100544
CREATED:20250315T035515Z
LAST-MODIFIED:20250315T035515Z
UID:5949-1773561600-1773591000@www.hobashira-aigo.jp
SUMMARY:第１０回　ほばしら探検隊
DESCRIPTION:テーマ：山よ森よありがとう!  \n\n\n\n集　　合\n９：３０　「皿倉山ケーブル山麓駅」\n\n\n解　　散\n１６：１０(予定) 「皿倉山ケーブル山麓駅」\n\n\n活動場所\n皿倉山ビジターセンター・帆柱自然公園一帯　(皿倉山・権現山・帆柱山・花尾山)\n\n\n対象・定員\n小学3年~6年生 20名程度(先着順)\n\n\nコロナ対策\n活動当日は検温(37.5°C未満)のうえ、マスクの着用を徹底願います。\n\n\n服装・持参品\n長袖シャツ・長ズボン・帽子・手袋・履き慣れた靴・リュックサック お弁当・水筒・雨具・筆記用具など　(カメラ・携帯電話・お菓子類の持参は禁止)\n\n\n参加費\n全１０回分　10\,000円　※保険料、通信費、資料教材、ケーブルカー運賃等含む (但し、8月キャンプの食材費は別途経費が必要)\n\n\nお申込み\n2025年度の申し込みは3月23日（土）で締め切らせて頂きます。次年度は、2026年3月1日号の「北九州 市政だより」で募集。\n\n\n\n\n※小雨決行・荒天中止 \n\n\n※集合・解散の場所と時間は、変更になる場合があります。\n\n\n\n 
URL:https://www.hobashira-aigo.jp/event/%e7%ac%ac%ef%bc%91%ef%bc%90%e5%9b%9e%e3%80%80%e3%81%bb%e3%81%b0%e3%81%97%e3%82%89%e6%8e%a2%e6%a4%9c%e9%9a%8a/
CATEGORIES:帆柱探検隊
ATTACH;FMTTYPE=image/jpeg:https://www.hobashira-aigo.jp/wp-content/uploads/2024/10/IMG_20241020_154253-scaled.jpg
END:VEVENT
BEGIN:VEVENT
DTSTART;TZID=Asia/Tokyo:20260215T093000
DTEND;TZID=Asia/Tokyo:20260215T161000
DTSTAMP:20260422T100544
CREATED:20221113T100256Z
LAST-MODIFIED:20250315T034906Z
UID:454-1771147800-1771171800@www.hobashira-aigo.jp
SUMMARY:第９回　ほばしら探検隊
DESCRIPTION:テーマ：森の落とし物で記念品が作れる? \n\n\n\n集　　合\n９：３０　「皿倉山ケーブル山麓駅」\n\n\n解　　散\n16:10(予定) 「皿倉山ケーブル山麓駅」\n\n\n活動場所\n皿倉山ビジターセンター・帆柱自然公園一帯　(皿倉山・権現山・帆柱山・花尾山)\n\n\n対象・定員\n小学3年~6年生 20名程度(先着順)\n\n\nコロナ対策\n活動当日は検温(37.5°C未満)のうえ、マスクの着用を徹底願います。\n\n\n服装・持参品\n長袖シャツ・長ズボン・帽子・手袋・履き慣れた靴・リュックサック お弁当・水筒・雨具・筆記用具など　(カメラ・携帯電話・お菓子類の持参は禁止)\n\n\n参加費\n全１０回分　10\,000円　※保険料、通信費、資料教材、ケーブルカー運賃等含む (但し、8月キャンプの食材費は別途経費が必要)\n\n\nお申込み\n2025年度の申し込みは3月23日（土）で締め切らせて頂きます。次年度は、2026年3月1日号の「北九州 市政だより」で募集。\n\n\n\n\n※小雨決行・荒天中止 \n\n\n※集合・解散の場所と時間は、変更になる場合があります。\n\n\n\n 
URL:https://www.hobashira-aigo.jp/event/%e3%81%bb%e3%81%b0%e3%81%97%e3%82%89%e6%8e%a2%e6%a4%9c%e9%9a%8a-9/
LOCATION:皿倉山ビジターセンター\, 福岡県北九州市八幡東区大字大蔵2664-1\, 805-0048\, 日本
CATEGORIES:帆柱探検隊
ATTACH;FMTTYPE=image/png:https://www.hobashira-aigo.jp/wp-content/uploads/2022/11/スクリーンショット-2023-03-12-22.28.46.png
ORGANIZER;CN="%EF%BC%AE%EF%BC%B0%EF%BC%AF%E6%B3%95%E4%BA%BA %E5%B8%86%E6%9F%B1%E8%87%AA%E7%84%B6%E5%85%AC%E5%9C%92%E6%84%9B%E8%AD%B7%E4%BC%9A":MAILTO:sarakura_vc@hobashira-aigo.jp
END:VEVENT
BEGIN:VEVENT
DTSTART;TZID=Asia/Tokyo:20260118T093000
DTEND;TZID=Asia/Tokyo:20260118T160000
DTSTAMP:20260422T100544
CREATED:20260112T085244Z
LAST-MODIFIED:20260112T085506Z
UID:7555-1768728600-1768752000@www.hobashira-aigo.jp
SUMMARY:第８回　ほばしら探検隊
DESCRIPTION:テーマ：森の冬で自然を探そう？ \n\n\n\n集　　合\n９：３０　「皿倉山ケーブル山麓駅」\n\n\n解　　散\n１６：１０(予定) 「皿倉山ケーブル山麓駅」\n\n\n活動場所\n皿倉山ビジターセンター・帆柱自然公園一帯　(皿倉山・権現山・帆柱山・花尾山)\n\n\n対象・定員\n小学3年~6年生 20名程度(先着順)\n\n\nコロナ対策\n活動当日は検温(37.5°C未満)のうえ、マスクの着用を徹底願います。\n\n\n服装・持参品\n長袖シャツ・長ズボン・帽子・手袋・履き慣れた靴・リュックサック お弁当・水筒・雨具・筆記用具など　(カメラ・携帯電話・お菓子類の持参は禁止)\n\n\n参加費\n全１０回分　10\,000円　※保険料、通信費、資料教材、ケーブルカー運賃等含む\n\n\n\n\n\n\n\n\n※小雨決行・荒天中止 \n\n\n※集合・解散の場所と時間は、変更になる場合があります。\n\n\n\n 
URL:https://www.hobashira-aigo.jp/event/%e7%ac%ac%ef%bc%98%e5%9b%9e%e3%80%80%e3%81%bb%e3%81%b0%e3%81%97%e3%82%89%e6%8e%a2%e6%a4%9c%e9%9a%8a/
LOCATION:皿倉山ビジターセンター\, 福岡県北九州市八幡東区大字大蔵2664-1\, 805-0048\, 日本
CATEGORIES:帆柱探検隊
ORGANIZER;CN="%EF%BC%AE%EF%BC%B0%EF%BC%AF%E6%B3%95%E4%BA%BA %E5%B8%86%E6%9F%B1%E8%87%AA%E7%84%B6%E5%85%AC%E5%9C%92%E6%84%9B%E8%AD%B7%E4%BC%9A":MAILTO:sarakura_vc@hobashira-aigo.jp
END:VEVENT
END:VCALENDAR